BEGIN:VCALENDAR
VERSION:2.0
PRODID:-//The Institute for Art and Olfaction - ECPv6.15.20//NONSGML v1.0//EN
CALSCALE:GREGORIAN
METHOD:PUBLISH
X-ORIGINAL-URL:https://artandolfaction.com
X-WR-CALDESC:Events for The Institute for Art and Olfaction
REFRESH-INTERVAL;VALUE=DURATION:PT1H
X-Robots-Tag:noindex
X-PUBLISHED-TTL:PT1H
BEGIN:VTIMEZONE
TZID:America/Tijuana
BEGIN:DAYLIGHT
TZOFFSETFROM:-0800
TZOFFSETTO:-0700
TZNAME:PDT
DTSTART:20250309T100000
END:DAYLIGHT
BEGIN:STANDARD
TZOFFSETFROM:-0700
TZOFFSETTO:-0800
TZNAME:PST
DTSTART:20251102T090000
END:STANDARD
BEGIN:DAYLIGHT
TZOFFSETFROM:-0800
TZOFFSETTO:-0700
TZNAME:PDT
DTSTART:20260308T100000
END:DAYLIGHT
BEGIN:STANDARD
TZOFFSETFROM:-0700
TZOFFSETTO:-0800
TZNAME:PST
DTSTART:20261101T090000
END:STANDARD
BEGIN:DAYLIGHT
TZOFFSETFROM:-0800
TZOFFSETTO:-0700
TZNAME:PDT
DTSTART:20270314T100000
END:DAYLIGHT
BEGIN:STANDARD
TZOFFSETFROM:-0700
TZOFFSETTO:-0800
TZNAME:PST
DTSTART:20271107T090000
END:STANDARD
END:VTIMEZONE
BEGIN:VEVENT
DTSTART;TZID=America/Tijuana:20260321T130000
DTEND;TZID=America/Tijuana:20260321T160000
DTSTAMP:20260423T122814
CREATED:20260318T022952Z
LAST-MODIFIED:20260318T022952Z
UID:10001032-1774098000-1774108800@artandolfaction.com
SUMMARY:Open Purchasing Hours
DESCRIPTION:The public is invited to peruse our Student Organ and purchase small vials of aromamaterials. Our offerings also include a curated selection of books\, magazines\, and fragrance wheels. \nFor ease\, please check out our online Inventory to see what will be on offer; you can assemble your shopping lists ahead of time!* This is a convenient time to purchase materials for classes that have Materials Lists\, as well expand your personal collection of scents for your own creative endeavors. \nOur pricing is as follows: \n• 5/8 Dram Vials for $4.00 (Refills for $2.00) \n• 1 Dram Vials for $6.00 (Refills for $3.00) \nThe library will be open for enjoyment as well. Staff will be present to assist with the sales but cannot provide consultation or education. RSVP is appreciated\, but walk-ins are welcome! \n*Our inventory can be seen at the following spreadsheet\, under the tab “Student Organ”: https://docs.google.com/spreadsheets/d/1E6RW6AYBrwL20Rd4FKbtdg-LrNvN07KS5wFP1L1oR_8/edit?gid=1862841218#gid=1862841218
URL:https://artandolfaction.com/events/open-purchasing-hours/
LOCATION:The Institute for Art and Olfaction\, 932 Chung King Rd\, Los Angeles\, CA\, 90012\, United States
CATEGORIES:In Person Event
ATTACH;FMTTYPE=image/jpeg:https://artandolfaction.com/wp-content/uploads/2026/03/EB_OpenPurchasingHours.jpg
END:VEVENT
BEGIN:VEVENT
DTSTART;TZID=America/Tijuana:20260321T180000
DTEND;TZID=America/Tijuana:20260321T200000
DTSTAMP:20260423T122814
CREATED:20260111T171113Z
LAST-MODIFIED:20260301T164106Z
UID:10001008-1774116000-1774123200@artandolfaction.com
SUMMARY:Scent in Culture: Magic and the Supernatural @ PRS Library (in person)
DESCRIPTION:Sign up: https://www.eventbrite.com/e/scent-in-culture-a-3-part-lecture-series-with-saskia-wilson-brown-tickets-1980281597566?utm_experiment=test_share_listing&aff=ebdsshios \n– \nThis is an external event managed and produced by Philosophical Research Society. \nSaskia Wilson-Brown presents a three part lecture series at the Philosophical Research Society Library\, demonstrating the impact of perfumery on human creative and cultural expression\, and drawing from her research into global historical scent practices as well as from esoteric teachings\, metaphysical texts\, and occult traditions represented in the PRS collections. The series reflects ongoing inquiries within the library’s holdings into ritual\, embodiment\, desire\, symbolism\, and the unseen forces that shape human experience. This research forms the basis of her upcoming book The Cultures of Perfume (D.A.P.\, Autumn 2026). \nPresenting richly textured anecdotes interwoven with historical research\, these talks will further root the topic in both contemporary and historic olfactory culture through direct experience of aromatic materials and perfumes. The lectures will last approximately 45 minutes and will be followed by ample time for questions\, discussion\, smelling\, and story sharing. \nImage: Le Tombeau des Lutteurs\, René Magritte (1960)
URL:https://artandolfaction.com/events/scent-in-culture-magic-and-the-supernatural-prs-library-in-person/
LOCATION:Philosophical Research Society\, 3910 Los Feliz Blvd\, Los Angeles\, 90027\, United States
CATEGORIES:Sorry, this event is sold out.
ATTACH;FMTTYPE=image/jpeg:https://artandolfaction.com/wp-content/uploads/2026/02/Oberon_Titania_EB_Slider.jpg
END:VEVENT
END:VCALENDAR