BEGIN:VCALENDAR
VERSION:2.0
PRODID:-//The Institute for Art and Olfaction - ECPv6.15.20//NONSGML v1.0//EN
CALSCALE:GREGORIAN
METHOD:PUBLISH
X-ORIGINAL-URL:https://artandolfaction.com
X-WR-CALDESC:Events for The Institute for Art and Olfaction
REFRESH-INTERVAL;VALUE=DURATION:PT1H
X-Robots-Tag:noindex
X-PUBLISHED-TTL:PT1H
BEGIN:VTIMEZONE
TZID:America/Tijuana
BEGIN:DAYLIGHT
TZOFFSETFROM:-0800
TZOFFSETTO:-0700
TZNAME:PDT
DTSTART:20250309T100000
END:DAYLIGHT
BEGIN:STANDARD
TZOFFSETFROM:-0700
TZOFFSETTO:-0800
TZNAME:PST
DTSTART:20251102T090000
END:STANDARD
BEGIN:DAYLIGHT
TZOFFSETFROM:-0800
TZOFFSETTO:-0700
TZNAME:PDT
DTSTART:20260308T100000
END:DAYLIGHT
BEGIN:STANDARD
TZOFFSETFROM:-0700
TZOFFSETTO:-0800
TZNAME:PST
DTSTART:20261101T090000
END:STANDARD
BEGIN:DAYLIGHT
TZOFFSETFROM:-0800
TZOFFSETTO:-0700
TZNAME:PDT
DTSTART:20270314T100000
END:DAYLIGHT
BEGIN:STANDARD
TZOFFSETFROM:-0700
TZOFFSETTO:-0800
TZNAME:PST
DTSTART:20271107T090000
END:STANDARD
END:VTIMEZONE
BEGIN:VEVENT
DTSTART;TZID=America/Tijuana:20260413T173000
DTEND;TZID=America/Tijuana:20260413T213000
DTSTAMP:20260423T132745
CREATED:20260406T150718Z
LAST-MODIFIED:20260407T220608Z
UID:10001054-1776101400-1776115800@artandolfaction.com
SUMMARY:Getty College Night (in person)
DESCRIPTION:More info: https://www.getty.edu/calendar/college-night-2026/\nand https://artandolfaction.com/collaborations/the-getty-center-college-night/ \n– \nThe IAO has teamed up with The Getty to present four scent interpretations of the museum’s extensive collection. \nCollege Night returns to the Getty Center. Join us for our annual after-hours celebration exclusively for college students—featuring art\, food\, music\, behind-the-scenes experiences\, artmaking\, and more. All for free! \n\n  \n 
URL:https://artandolfaction.com/events/getty-college-night/
LOCATION:The Getty Center\, 1200 Getty Center Dr\, Los Angeles\, CA\, 90049\, United States
CATEGORIES:Art,In Person Event
ATTACH;FMTTYPE=image/jpeg:https://artandolfaction.com/wp-content/uploads/2026/04/Getty_Collegenight.jpg
END:VEVENT
END:VCALENDAR