BEGIN:VCALENDAR
VERSION:2.0
PRODID:-//The Institute for Art and Olfaction - ECPv6.15.20//NONSGML v1.0//EN
CALSCALE:GREGORIAN
METHOD:PUBLISH
X-WR-CALNAME:The Institute for Art and Olfaction
X-ORIGINAL-URL:https://artandolfaction.com
X-WR-CALDESC:Events for The Institute for Art and Olfaction
REFRESH-INTERVAL;VALUE=DURATION:PT1H
X-Robots-Tag:noindex
X-PUBLISHED-TTL:PT1H
BEGIN:VTIMEZONE
TZID:America/Tijuana
BEGIN:DAYLIGHT
TZOFFSETFROM:-0800
TZOFFSETTO:-0700
TZNAME:PDT
DTSTART:20250309T100000
END:DAYLIGHT
BEGIN:STANDARD
TZOFFSETFROM:-0700
TZOFFSETTO:-0800
TZNAME:PST
DTSTART:20251102T090000
END:STANDARD
BEGIN:DAYLIGHT
TZOFFSETFROM:-0800
TZOFFSETTO:-0700
TZNAME:PDT
DTSTART:20260308T100000
END:DAYLIGHT
BEGIN:STANDARD
TZOFFSETFROM:-0700
TZOFFSETTO:-0800
TZNAME:PST
DTSTART:20261101T090000
END:STANDARD
BEGIN:DAYLIGHT
TZOFFSETFROM:-0800
TZOFFSETTO:-0700
TZNAME:PDT
DTSTART:20270314T100000
END:DAYLIGHT
BEGIN:STANDARD
TZOFFSETFROM:-0700
TZOFFSETTO:-0800
TZNAME:PST
DTSTART:20271107T090000
END:STANDARD
END:VTIMEZONE
BEGIN:VEVENT
DTSTART;TZID=America/Tijuana:20260423T100000
DTEND;TZID=America/Tijuana:20260423T120000
DTSTAMP:20260423T051527
CREATED:20260111T165756Z
LAST-MODIFIED:20260111T165834Z
UID:10001006-1776938400-1776945600@artandolfaction.com
SUMMARY:Lily of the Valley: Perfume Accords (online)
DESCRIPTION:Sign up: https://www.eventbrite.com/e/lily-of-the-valley-perfume-accords-online-tickets-1963638889779?aff=oddtdtcreator \n– \n\nIn this online class\, perfumer Ashley Eden Kessler teaches perfume composition with a lily of the valley\, or muguet\, perfume accord.\n\n\n\nExplore fragrance categories through specific classes designed by The Institute for Art and Olfaction to help new perfumers gain sensory understanding and technical perfumery skills. \nIn the latest of her accords classes\, Ashley leads an investigation into a fresh\, floral lily of the valley or muguet perfume accord. Learning how to assemble perfume accords leads to a greater adeptness at blending\, and well-trained noses. Learn how to construct accords as you explore the individual aromatic components of these perfume accords. \nOur accords series helps students of perfumery understand the molecular components of the various facets and types of the most important notes in perfumery. By attending this class\, an emerging perfumer or scent artist will expand their capabilities and training\, gain the materials knowledge to add a new accord to their arsenal\, and leave with a deeper understanding of the artistry and science behind perfumery. \nMaterials Needed/Pre-Class Homework: We will send you a master document containing the materials list and formulation exercises upon signup via the confirmation email from Eventbrite. Please purchase these materials before attending class. The estimated cost of the perfume materials is $77\, not including any labware you may need to purchase. The formulation exercises must be accomplished before the class meets. \n\n\n  \nPhoto by Anna on Unsplash
URL:https://artandolfaction.com/events/lily-of-the-valley-perfume-accords-online-2/
LOCATION:On Zoom
CATEGORIES:Education,Online Event
ATTACH;FMTTYPE=image/jpeg:https://artandolfaction.com/wp-content/uploads/2026/01/EB_LilyofthevalleyMuguet.jpg
END:VEVENT
BEGIN:VEVENT
DTSTART;TZID=America/Tijuana:20260428T100000
DTEND;TZID=America/Tijuana:20260428T113000
DTSTAMP:20260423T051527
CREATED:20260331T002303Z
LAST-MODIFIED:20260421T144931Z
UID:10001046-1777370400-1777375800@artandolfaction.com
SUMMARY:Tracing Perfume: Woods\, part 1 (online)
DESCRIPTION:Sign up: https://www.eventbrite.com/e/tracing-perfume-woods-part-1-online-tickets-1986272158495?aff=oddtdtcreator \n– \nPlease note: this is the first of a two-part online class. Woods Part 2 takes place online\, on Tuesday\, May 12\, 2026. \n\n\n\n\n\n\n\n\n\n\nDana El Masri explores the history of fine fragrance through a series of classes that cover the genealogy of scent. How did aromatic materials influence perfumery? How did perfumers draw from the same source to produce such diverse expressions? Each class in this series explores the most important perfumes in 20th and 21st perfumery from the perspective of the materials that inform them. \nIn this class\, Dana covers perfumes highlighting woody materials\, focusing on cedarwood\, guaiacwood\, oakmoss\, and sandalwood. She will explore the material provenance\, aromatic aspects\, and notable perfumes that make use of these woody notes in various ways. Then\, as a group\, the class will discuss a series of notes and perfumes that elucidate the category. \n\n\n\n\nTopics covered: \nHistory and cultural impact of perfume materials\nTechnical information about perfume materials\nOverview of these materials in classic\, contemporary\, mass market\, and niche perfumes \n 
URL:https://artandolfaction.com/events/woods-part-1/
LOCATION:On Zoom
CATEGORIES:Education,Online Event
ATTACH;FMTTYPE=image/jpeg:https://artandolfaction.com/wp-content/uploads/2026/03/NEW_Dana-slider-overlay.jpg
END:VEVENT
BEGIN:VEVENT
DTSTART;TZID=America/Tijuana:20260429T090000
DTEND;TZID=America/Tijuana:20260429T100000
DTSTAMP:20260423T051527
CREATED:20260330T144112Z
LAST-MODIFIED:20260330T144200Z
UID:10001043-1777453200-1777456800@artandolfaction.com
SUMMARY:Meet a Nose: Andrea Maack (online)
DESCRIPTION:Sign up: https://www.eventbrite.com/e/meet-a-nose-andrea-maack-online-tickets-1986038655080?aff=oddtdtcreator \n– \nEach edition of Meet a Nose takes the form of a one-hour discussion moderated by IAO founder Saskia Wilson-Brown\, in which extraordinary thinkers\, singular artists\, and distinctive perfumers from around the world share their unique perspectives on what it means to be a sensorial human in the world. \nAndrea Maack is an Icelandic visual artist\, who launched her first perfume as an art piece. “The idea of working with scent came about through a series of exhibitions I always envisioned only making one fragrance titled SMART (Smell Art)\, but after that show\, I was hooked on this process and started working on scented installations full time\,” she explains. \nSoon after that show\, in 2012\, Maack decided to develop a luxury fragrance brand—ANDREA MAACK. “The brand came about when I was invited to host the opening show of a design gallery in downtown Reykjavík and I decided to do an art installation in the form of a “Andrea Maack perfume shop”. \nFor Maack\, the link between visual art and perfumery is a palpable one. “I see scent as a linear thing — it travels along your skin and travels through the air\, which can be reminiscent of strokes traveling across a page.”
URL:https://artandolfaction.com/events/meet-a-nose-andrea-maack-online/
LOCATION:The Institute for Art and Olfaction\, 932 Chung King Rd\, Los Angeles\, CA\, 90012\, United States
CATEGORIES:Education,Online Event
ATTACH;FMTTYPE=image/jpeg:https://artandolfaction.com/wp-content/uploads/2026/03/AndreaMaak_Slider.jpg
END:VEVENT
END:VCALENDAR