BEGIN:VCALENDAR
VERSION:2.0
PRODID:-//The Institute for Art and Olfaction - ECPv6.15.20//NONSGML v1.0//EN
CALSCALE:GREGORIAN
METHOD:PUBLISH
X-WR-CALNAME:The Institute for Art and Olfaction
X-ORIGINAL-URL:https://artandolfaction.com
X-WR-CALDESC:Events for The Institute for Art and Olfaction
REFRESH-INTERVAL;VALUE=DURATION:PT1H
X-Robots-Tag:noindex
X-PUBLISHED-TTL:PT1H
BEGIN:VTIMEZONE
TZID:America/Tijuana
BEGIN:DAYLIGHT
TZOFFSETFROM:-0800
TZOFFSETTO:-0700
TZNAME:PDT
DTSTART:20250309T100000
END:DAYLIGHT
BEGIN:STANDARD
TZOFFSETFROM:-0700
TZOFFSETTO:-0800
TZNAME:PST
DTSTART:20251102T090000
END:STANDARD
BEGIN:DAYLIGHT
TZOFFSETFROM:-0800
TZOFFSETTO:-0700
TZNAME:PDT
DTSTART:20260308T100000
END:DAYLIGHT
BEGIN:STANDARD
TZOFFSETFROM:-0700
TZOFFSETTO:-0800
TZNAME:PST
DTSTART:20261101T090000
END:STANDARD
BEGIN:DAYLIGHT
TZOFFSETFROM:-0800
TZOFFSETTO:-0700
TZNAME:PDT
DTSTART:20270314T100000
END:DAYLIGHT
BEGIN:STANDARD
TZOFFSETFROM:-0700
TZOFFSETTO:-0800
TZNAME:PST
DTSTART:20271107T090000
END:STANDARD
END:VTIMEZONE
BEGIN:VEVENT
DTSTART;TZID=America/Tijuana:20260715T170000
DTEND;TZID=America/Tijuana:20260715T180000
DTSTAMP:20260423T105957
CREATED:20260406T142911Z
LAST-MODIFIED:20260406T142911Z
UID:10001052-1784134800-1784138400@artandolfaction.com
SUMMARY:Hsuan L. Hsu and Olfactory Worldmaking (online)
DESCRIPTION:Sign up: https://www.eventbrite.com/e/hsuan-l-hsu-and-olfactory-worldmaking-online-tickets-1986805424508?aff=oddtdtcreator&keep_tld=true \n– \n\n\nHsuan L. Hsu shares his research into how smell reshapes human connections\, and resists racial and colonial capitalist systems. \n\n\n\n\nSmell is a vital\, if underappreciated\, medium through which we inhabit and imagine the world. In his new book Olfactory Worldmaking\, Hsuan L. Hsu traces how olfactory experience communicates across visceral\, material\, and affective registers to offer new ways of relating\, which challenge the extractive logics of racial and colonial capitalism. Blending environmental humanities\, sensory studies\, and critical ethnic studies\, the book highlights how scent animates suppressed histories and marginalized memories. \nHsu theorizes olfaction as a speculative\, reparative practice. Examining projects from historical novels\, memoirs\, and speculative fiction to conceptual art and experimental perfumes\, he reveals how these works mobilize scent to imagine alternative ways of sensing\, relating\, and creating more equitably livable worlds. \nLearn more about ‘Olfactory Worldmaking’\, here \n  \n\n\n\n\nABOUT HSUAN L. HSU \nHsuan L. Hsu is professor of English at the University of California\, Davis. He is author of Geography and the Production of Space in Nineteenth-Century American Literature; Sitting in Darkness: Mark Twain’s Asia and Comparative Racialization; The Smell of Risk: Environmental Disparities and Olfactory Aesthetics; and Air Conditioning. \n\n\n\n\nABOUT OLFACTORY RESEARCH NOTES \nOlfactory Research Notes is a lecture series presented by the Institute for Art and Olfaction that highlights important research done in the field of olfaction\, directly from the scientists\, researchers\, academics\, and artists who do it.
URL:https://artandolfaction.com/events/hsuan-l-hsu-and-olfactory-worldmaking-online/
LOCATION:On Zoom
CATEGORIES:Education,Online Event
ATTACH;FMTTYPE=image/jpeg:https://artandolfaction.com/wp-content/uploads/2026/04/HsuanLHsu-Olfactory-Worldmaking.jpg
END:VEVENT
END:VCALENDAR