BEGIN:VCALENDAR
VERSION:2.0
PRODID:-//The Institute for Art and Olfaction - ECPv6.15.20//NONSGML v1.0//EN
CALSCALE:GREGORIAN
METHOD:PUBLISH
X-ORIGINAL-URL:https://artandolfaction.com
X-WR-CALDESC:Events for The Institute for Art and Olfaction
REFRESH-INTERVAL;VALUE=DURATION:PT1H
X-Robots-Tag:noindex
X-PUBLISHED-TTL:PT1H
BEGIN:VTIMEZONE
TZID:America/Tijuana
BEGIN:DAYLIGHT
TZOFFSETFROM:-0800
TZOFFSETTO:-0700
TZNAME:PDT
DTSTART:20250309T100000
END:DAYLIGHT
BEGIN:STANDARD
TZOFFSETFROM:-0700
TZOFFSETTO:-0800
TZNAME:PST
DTSTART:20251102T090000
END:STANDARD
BEGIN:DAYLIGHT
TZOFFSETFROM:-0800
TZOFFSETTO:-0700
TZNAME:PDT
DTSTART:20260308T100000
END:DAYLIGHT
BEGIN:STANDARD
TZOFFSETFROM:-0700
TZOFFSETTO:-0800
TZNAME:PST
DTSTART:20261101T090000
END:STANDARD
BEGIN:DAYLIGHT
TZOFFSETFROM:-0800
TZOFFSETTO:-0700
TZNAME:PDT
DTSTART:20270314T100000
END:DAYLIGHT
BEGIN:STANDARD
TZOFFSETFROM:-0700
TZOFFSETTO:-0800
TZNAME:PST
DTSTART:20271107T090000
END:STANDARD
END:VTIMEZONE
BEGIN:VEVENT
DTSTART;TZID=America/Tijuana:20260611T190000
DTEND;TZID=America/Tijuana:20260611T220000
DTSTAMP:20260423T120032
CREATED:20260109T232141Z
LAST-MODIFIED:20260331T231156Z
UID:10001003-1781204400-1781215200@artandolfaction.com
SUMMARY:12th Art and Olfaction Awards
DESCRIPTION:Register to attend: https://www.eventbrite.com/e/1986287195471?aff=oddtdtcreator \n– \nWe are thrilled to celebrate the twelfth edition of the Art and Olfaction Awards at Gazarte Cultural Center\, in Athens\, Greece. Join us to honor the finalists and winners\, with fellow perfume lovers from around the world.
URL:https://artandolfaction.com/events/12th-art-and-olfaction-awards/
LOCATION:Gazarte Cultural Center\, 32-34 Voutadon Str.\, Athens\, Gazi Kerameikos\, Greece
CATEGORIES:Art and Olfaction Awards,In Person Event
ATTACH;FMTTYPE=image/jpeg:https://artandolfaction.com/wp-content/uploads/2026/01/Athens_HP-nologo_NEWSLIDER-2160x1080-1.jpg
END:VEVENT
END:VCALENDAR