BEGIN:VCALENDAR
VERSION:2.0
PRODID:-//The Institute for Art and Olfaction - ECPv6.15.20//NONSGML v1.0//EN
CALSCALE:GREGORIAN
METHOD:PUBLISH
X-ORIGINAL-URL:https://artandolfaction.com
X-WR-CALDESC:Events for The Institute for Art and Olfaction
REFRESH-INTERVAL;VALUE=DURATION:PT1H
X-Robots-Tag:noindex
X-PUBLISHED-TTL:PT1H
BEGIN:VTIMEZONE
TZID:America/Tijuana
BEGIN:DAYLIGHT
TZOFFSETFROM:-0800
TZOFFSETTO:-0700
TZNAME:PDT
DTSTART:20250309T100000
END:DAYLIGHT
BEGIN:STANDARD
TZOFFSETFROM:-0700
TZOFFSETTO:-0800
TZNAME:PST
DTSTART:20251102T090000
END:STANDARD
BEGIN:DAYLIGHT
TZOFFSETFROM:-0800
TZOFFSETTO:-0700
TZNAME:PDT
DTSTART:20260308T100000
END:DAYLIGHT
BEGIN:STANDARD
TZOFFSETFROM:-0700
TZOFFSETTO:-0800
TZNAME:PST
DTSTART:20261101T090000
END:STANDARD
BEGIN:DAYLIGHT
TZOFFSETFROM:-0800
TZOFFSETTO:-0700
TZNAME:PDT
DTSTART:20270314T100000
END:DAYLIGHT
BEGIN:STANDARD
TZOFFSETFROM:-0700
TZOFFSETTO:-0800
TZNAME:PST
DTSTART:20271107T090000
END:STANDARD
END:VTIMEZONE
BEGIN:VEVENT
DTSTART;TZID=America/Tijuana:20260308T150000
DTEND;TZID=America/Tijuana:20260308T170000
DTSTAMP:20260423T102306
CREATED:20260111T164839Z
LAST-MODIFIED:20260301T163727Z
UID:10001005-1772982000-1772989200@artandolfaction.com
SUMMARY:IAO Library Smelling Session: Perfume Box Sets (in person)
DESCRIPTION:Sign up: https://www.eventbrite.com/e/iao-library-smelling-session-perfume-box-sets-in-person-tickets-1979564310140?aff=oddtdtcreator \n– \n\n\nThe library at the Institute for Art and Olfaction contains half a dozen perfume box sets: collections of compounded scents organized around a theme. Examples include “A World Tour Through Scent”\, a combination book/perfume set that features the work of 12 perfumers of different nationalities; “The Art of Scent\, 1889-2012”\, a catalogue and perfume kit that documented an exhibition on scent curated by Chandler Burr at the Museum of Art and Design in New York; “Nose Music”\, a kit that combines scents with music that was a collaboration between the Institute for Art and Olfaction\, bighouse\, and Dublab; and Visionaire #42 Scent\, the cutting edge fashion periodical that devotes each issue to a special theme\, in this case combining avant garde fashion imagery with 21 experimental perfumes by some of the most innovative perfumers working today. \nParticipants will get to smell as many of the box sets as time allows\, in a group setting. Our discussion will focus on the impressions of the perfumes and their concordance with their accompanying images and texts. This smelling session will be a special opportunity to smell scent box sets from our library that we otherwise do not allow everyday access to. Please note that we will be smelling new scents from the box sets rather than repeating previous scents from earlier sessions.
URL:https://artandolfaction.com/events/iao-library-smelling-session-perfume-box-sets-in-person/
LOCATION:The Institute for Art and Olfaction\, 932 Chung King Rd\, Los Angeles\, CA\, 90012\, United States
CATEGORIES:Sorry, this event is sold out.
ATTACH;FMTTYPE=image/jpeg:https://artandolfaction.com/wp-content/uploads/2026/02/EB_BoxSets.jpg
END:VEVENT
END:VCALENDAR