BEGIN:VCALENDAR
VERSION:2.0
PRODID:-//The Institute for Art and Olfaction - ECPv6.15.20//NONSGML v1.0//EN
CALSCALE:GREGORIAN
METHOD:PUBLISH
X-ORIGINAL-URL:https://artandolfaction.com
X-WR-CALDESC:Events for The Institute for Art and Olfaction
REFRESH-INTERVAL;VALUE=DURATION:PT1H
X-Robots-Tag:noindex
X-PUBLISHED-TTL:PT1H
BEGIN:VTIMEZONE
TZID:America/Tijuana
BEGIN:DAYLIGHT
TZOFFSETFROM:-0800
TZOFFSETTO:-0700
TZNAME:PDT
DTSTART:20250309T100000
END:DAYLIGHT
BEGIN:STANDARD
TZOFFSETFROM:-0700
TZOFFSETTO:-0800
TZNAME:PST
DTSTART:20251102T090000
END:STANDARD
BEGIN:DAYLIGHT
TZOFFSETFROM:-0800
TZOFFSETTO:-0700
TZNAME:PDT
DTSTART:20260308T100000
END:DAYLIGHT
BEGIN:STANDARD
TZOFFSETFROM:-0700
TZOFFSETTO:-0800
TZNAME:PST
DTSTART:20261101T090000
END:STANDARD
BEGIN:DAYLIGHT
TZOFFSETFROM:-0800
TZOFFSETTO:-0700
TZNAME:PDT
DTSTART:20270314T100000
END:DAYLIGHT
BEGIN:STANDARD
TZOFFSETFROM:-0700
TZOFFSETTO:-0800
TZNAME:PST
DTSTART:20271107T090000
END:STANDARD
END:VTIMEZONE
BEGIN:VEVENT
DTSTART;TZID=America/Tijuana:20260226T100000
DTEND;TZID=America/Tijuana:20260226T120000
DTSTAMP:20260423T162827
CREATED:20251112T030741Z
LAST-MODIFIED:20260105T205532Z
UID:10000971-1772100000-1772107200@artandolfaction.com
SUMMARY:Ambergris: Perfume Accords (online)
DESCRIPTION:Sign up: https://www.eventbrite.com/e/ambergris-perfume-accords-online-tickets-1963613088607?aff=oddtdtcreator \n– \nExplore fragrance categories through specific classes designed by The Institute for Art and Olfaction to help new perfumers gain sensory understanding and technical perfumery skills. \nIn the latest of her accords classes\, Ashley leads an investigation into a complex\, rich ambergris  perfume accord. Learning how to assemble perfume accords leads to a greater adeptness at blending\, and well-trained noses. Learn how to construct accords as you explore the individual aromatic components of these perfume accords. \nOur accords series helps students of perfumery understand the molecular components of the various facets and types of the most important notes in perfumery. By attending this class\, an emerging perfumer or scent artist will expand their capabilities and training\, gain the materials knowledge to add a new accord to their arsenal\, and leave with a deeper understanding of the artistry and science behind perfumery. \nMaterials Needed/Pre-Class Homework: We will send you a master document containing the materials list and formulation exercises upon signup via the confirmation email from Eventbrite. Please purchase these materials before attending class. The estimated cost of the perfume materials is $160\, not including any labware you may need to purchase. The formulation exercises must be accomplished before the class meets. \n– \nPhoto by IAO
URL:https://artandolfaction.com/events/ambergris-perfume-accords-online/
LOCATION:On Zoom
CATEGORIES:Education,Online Event
ATTACH;FMTTYPE=image/jpeg:https://artandolfaction.com/wp-content/uploads/2025/11/Ambergris_EB.jpg
END:VEVENT
END:VCALENDAR