BEGIN:VCALENDAR
VERSION:2.0
PRODID:-//The Institute for Art and Olfaction - ECPv6.15.20//NONSGML v1.0//EN
CALSCALE:GREGORIAN
METHOD:PUBLISH
X-ORIGINAL-URL:https://artandolfaction.com
X-WR-CALDESC:Events for The Institute for Art and Olfaction
REFRESH-INTERVAL;VALUE=DURATION:PT1H
X-Robots-Tag:noindex
X-PUBLISHED-TTL:PT1H
BEGIN:VTIMEZONE
TZID:America/Tijuana
BEGIN:DAYLIGHT
TZOFFSETFROM:-0800
TZOFFSETTO:-0700
TZNAME:PDT
DTSTART:20250309T100000
END:DAYLIGHT
BEGIN:STANDARD
TZOFFSETFROM:-0700
TZOFFSETTO:-0800
TZNAME:PST
DTSTART:20251102T090000
END:STANDARD
BEGIN:DAYLIGHT
TZOFFSETFROM:-0800
TZOFFSETTO:-0700
TZNAME:PDT
DTSTART:20260308T100000
END:DAYLIGHT
BEGIN:STANDARD
TZOFFSETFROM:-0700
TZOFFSETTO:-0800
TZNAME:PST
DTSTART:20261101T090000
END:STANDARD
BEGIN:DAYLIGHT
TZOFFSETFROM:-0800
TZOFFSETTO:-0700
TZNAME:PDT
DTSTART:20270314T100000
END:DAYLIGHT
BEGIN:STANDARD
TZOFFSETFROM:-0700
TZOFFSETTO:-0800
TZNAME:PST
DTSTART:20271107T090000
END:STANDARD
END:VTIMEZONE
BEGIN:VEVENT
DTSTART;TZID=America/Tijuana:20260525T100000
DTEND;TZID=America/Tijuana:20260525T120000
DTSTAMP:20260423T142138
CREATED:20260317T143038Z
LAST-MODIFIED:20260317T143038Z
UID:10001031-1779703200-1779710400@artandolfaction.com
SUMMARY:Eleven Week Perfume Materials Course - Module 1 (online)
DESCRIPTION:Sign up: https://www.eventbrite.com/e/eleven-week-perfume-materials-course-module-1-tickets-1984929270882?aff=oddtdtcreator \n– \n\n\nAbout this Materials Course\nAshley Eden Kessler returns to lead module 1 of her popular online materials course\, over eleven sessions spent exploring the crucial materials in the perfumers’ organ. This slow\, steady emphasis on deep sensorial study provides an indispensable first step in learning perfumery\, and an opportunity to grow a technical familiarity with perfume materials. \nRegistration includes a materials kit (55 materials\, scent strips)\, and attendees are invited to join live on zoom or catch the class as a video replay: All registrations provide access to the live zoom sessions (72 spots) and 11 week replay access to the recorded sessions. Recording access for all sessions will end on September 14\, 2026. \nThis is Module 1 of a total of three modules. These modules are not consecutive: any student can start at any module (though modules one and two cover more commonly used materials). This module is appropriate for beginners and intermediate perfumers alike. \nClass Experience\nIn each 2-hour online session\, Ashley will lead attendees in smelling and discussing five crucial perfume materials of natural and synthetic origin. Over the eleven total sessions offered in this course\, the group will systematically go through the course material\, category by category. We thoughtfully explore the function\, aesthetics and technicalities of each material in the context of other aromatics from its fragrance family. \nEach session focuses on our unique experience with the materials. By sharing these experiences\, we work towards developing a language\, both personal and communal\, for our experience of scent. Through this course\, participants will gain fluency in the most important molecules of modern perfumery. Growing a familiarity with the materials is\, after all\, a crucial first step in practicing perfumery. \nThere is a lot to gain from this slow-paced work. For newcomers to fragrance\, this intimate knowledge of the materials is indispensable\, offering a grounding and deeply enriching practice that brings us into the present and connects us more deeply to our lived experience—and our creativity. For more experienced perfumers\, the class presents an opportunity to enrich the process and technical knowledge necessary to mastery. \nCourse Takeaways \n\nTechnical knowledge about the molecular components of the studied material\nKnowledge of aromatic materials’ origins and use in fine perfumery\nA greater familiarity with aromatic materials and scent categories
URL:https://artandolfaction.com/events/eleven-week-perfume-materials-course-module-1-online/
LOCATION:On Zoom
CATEGORIES:Education,Online Event
ATTACH;FMTTYPE=image/jpeg:https://artandolfaction.com/wp-content/uploads/2026/03/EB_Lab-Strips_Many.jpg
END:VEVENT
END:VCALENDAR