BEGIN:VCALENDAR
VERSION:2.0
PRODID:-//The Institute for Art and Olfaction - ECPv6.15.20//NONSGML v1.0//EN
CALSCALE:GREGORIAN
METHOD:PUBLISH
X-WR-CALNAME:The Institute for Art and Olfaction
X-ORIGINAL-URL:https://artandolfaction.com
X-WR-CALDESC:Events for The Institute for Art and Olfaction
REFRESH-INTERVAL;VALUE=DURATION:PT1H
X-Robots-Tag:noindex
X-PUBLISHED-TTL:PT1H
BEGIN:VTIMEZONE
TZID:America/Tijuana
BEGIN:DAYLIGHT
TZOFFSETFROM:-0800
TZOFFSETTO:-0700
TZNAME:PDT
DTSTART:20250309T100000
END:DAYLIGHT
BEGIN:STANDARD
TZOFFSETFROM:-0700
TZOFFSETTO:-0800
TZNAME:PST
DTSTART:20251102T090000
END:STANDARD
BEGIN:DAYLIGHT
TZOFFSETFROM:-0800
TZOFFSETTO:-0700
TZNAME:PDT
DTSTART:20260308T100000
END:DAYLIGHT
BEGIN:STANDARD
TZOFFSETFROM:-0700
TZOFFSETTO:-0800
TZNAME:PST
DTSTART:20261101T090000
END:STANDARD
BEGIN:DAYLIGHT
TZOFFSETFROM:-0800
TZOFFSETTO:-0700
TZNAME:PDT
DTSTART:20270314T100000
END:DAYLIGHT
BEGIN:STANDARD
TZOFFSETFROM:-0700
TZOFFSETTO:-0800
TZNAME:PST
DTSTART:20271107T090000
END:STANDARD
END:VTIMEZONE
BEGIN:VEVENT
DTSTART;TZID=America/Tijuana:20260323T173000
DTEND;TZID=America/Tijuana:20260323T193000
DTSTAMP:20260423T165738
CREATED:20260301T171918Z
LAST-MODIFIED:20260318T023914Z
UID:10001030-1774287000-1774294200@artandolfaction.com
SUMMARY:Open Sessions: Community (in person)
DESCRIPTION:Sign up: https://www.eventbrite.com/e/open-sessions-community-tickets-1984201843126?aff=oddtdtcreator \n– \n\nLearn how to create perfume at the IAO’s open sessions: Learn by doing\, and make new friends along the way!\n\n\n\nOpen Sessions: Community reflects the IAO’s mission of making the aromatic arts accessible to all. This offering is designed to ensure that cost is not a barrier to participation\, and to welcome those for whom our standard registration fees may not be feasible. \nBlending aromatic molecules together into a composed perfume is not only fun\, but creative\, challenging and – sometimes – kinda relaxing. We can’t promise that you’ll make the next Santal 33\, but we can guarantee that you’ll come away with a healthy respect for the art\, science\, materials\, and skill it takes to make perfume. \nOpen Sessions are the IAO’s longest running program\, and focus on hands-on experience for newcomers to the practice. In a casual\, self-led setting\, you’ll independently tinker with materials from the experimental organ\, select five to work with\, and get to making your first trials! \nWe have everything you need: Aromatic materials (natural\, synthetic\, and accords)\, 5/8 dram vials and pipettes\, and scent strips. You go home with your formula\, what’s left of your materials and — most importantly — a new awareness of what it takes to make a perfume. All you need to bring is an open mind\, and down the rabbit hole you go!
URL:https://artandolfaction.com/events/open-sessions-community-in-person/
LOCATION:The Institute for Art and Olfaction\, 932 Chung King Rd\, Los Angeles\, CA\, 90012\, United States
CATEGORIES:Sorry, this event is sold out.
ATTACH;FMTTYPE=image/jpeg:https://artandolfaction.com/wp-content/uploads/2026/03/EB_OpenSession_New.jpg
END:VEVENT
END:VCALENDAR