BEGIN:VCALENDAR
VERSION:2.0
PRODID:-//The Institute for Art and Olfaction - ECPv6.15.20//NONSGML v1.0//EN
CALSCALE:GREGORIAN
METHOD:PUBLISH
X-WR-CALNAME:The Institute for Art and Olfaction
X-ORIGINAL-URL:https://artandolfaction.com
X-WR-CALDESC:Events for The Institute for Art and Olfaction
REFRESH-INTERVAL;VALUE=DURATION:PT1H
X-Robots-Tag:noindex
X-PUBLISHED-TTL:PT1H
BEGIN:VTIMEZONE
TZID:America/Tijuana
BEGIN:DAYLIGHT
TZOFFSETFROM:-0800
TZOFFSETTO:-0700
TZNAME:PDT
DTSTART:20250309T100000
END:DAYLIGHT
BEGIN:STANDARD
TZOFFSETFROM:-0700
TZOFFSETTO:-0800
TZNAME:PST
DTSTART:20251102T090000
END:STANDARD
BEGIN:DAYLIGHT
TZOFFSETFROM:-0800
TZOFFSETTO:-0700
TZNAME:PDT
DTSTART:20260308T100000
END:DAYLIGHT
BEGIN:STANDARD
TZOFFSETFROM:-0700
TZOFFSETTO:-0800
TZNAME:PST
DTSTART:20261101T090000
END:STANDARD
BEGIN:DAYLIGHT
TZOFFSETFROM:-0800
TZOFFSETTO:-0700
TZNAME:PDT
DTSTART:20270314T100000
END:DAYLIGHT
BEGIN:STANDARD
TZOFFSETFROM:-0700
TZOFFSETTO:-0800
TZNAME:PST
DTSTART:20271107T090000
END:STANDARD
END:VTIMEZONE
BEGIN:VEVENT
DTSTART;TZID=America/Tijuana:20260211T173000
DTEND;TZID=America/Tijuana:20260211T200000
DTSTAMP:20260423T161439
CREATED:20260105T194955Z
LAST-MODIFIED:20260127T015735Z
UID:10000997-1770831000-1770840000@artandolfaction.com
SUMMARY:Love Smells: Perfume-Making Workshop (in person)
DESCRIPTION:Sign up: https://www.eventbrite.com/e/love-smells-perfume-making-workshop-with-minetta-rogers-in-person-tickets-1979551979258?aff=oddtdtcreator\n\n\n–\n\n\nJoin Minetta Rogers for a guided blending session celebrating the season of love — and\, of course\, perfume-making! For beginners\, but all levels welcome. \nFor the first portion of this smelling and blending session\, we will learn about some smells in the historical palettes of love. Scent strips will be handed out by your friendly Institute for Art and Olfaction team\, and we will spend time smelling and discussing our impressions of aromatic materials associated with the season. \nWe will start the second portion of the session by briefly discussing and practicing blending scent. Each student will have the opportunity to blend with aromatic materials from the session’s selected palette. We will spend the rest of the session experimenting with our own short formulas. \nEach attendee goes home with a small trial of their aromatic blend. \nTopics covered: \n– introduction to aromatic materials and scent evaluation \n– introduction to blending and composing scent \n– introduction to expanding formulas \nTake-Aways: A spray vial of chosen scent blend \n\n\n\n\nSafety Note: Some aromatic materials can have side effects when applied to skin. The information and teaching materials presented in our classes are for educational purposes only. These are not intended for commercial use and do not necessarily reflect commercial best practices or industry safety standards. For more information about commercial best practices and safety\, consult the relevant authorities in your country of residence.
URL:https://artandolfaction.com/events/love-smells-perfume-making-workshop-in-person/
LOCATION:The Institute for Art and Olfaction\, 932 Chung King Rd\, Los Angeles\, CA\, 90012\, United States
CATEGORIES:Sorry, this event is sold out.
ATTACH;FMTTYPE=image/jpeg:https://artandolfaction.com/wp-content/uploads/2026/01/EB_Valentinesession.jpg
END:VEVENT
END:VCALENDAR