BEGIN:VCALENDAR
VERSION:2.0
PRODID:-//The Institute for Art and Olfaction - ECPv6.15.20//NONSGML v1.0//EN
CALSCALE:GREGORIAN
METHOD:PUBLISH
X-ORIGINAL-URL:https://artandolfaction.com
X-WR-CALDESC:Events for The Institute for Art and Olfaction
REFRESH-INTERVAL;VALUE=DURATION:PT1H
X-Robots-Tag:noindex
X-PUBLISHED-TTL:PT1H
BEGIN:VTIMEZONE
TZID:America/Tijuana
BEGIN:DAYLIGHT
TZOFFSETFROM:-0800
TZOFFSETTO:-0700
TZNAME:PDT
DTSTART:20250309T100000
END:DAYLIGHT
BEGIN:STANDARD
TZOFFSETFROM:-0700
TZOFFSETTO:-0800
TZNAME:PST
DTSTART:20251102T090000
END:STANDARD
BEGIN:DAYLIGHT
TZOFFSETFROM:-0800
TZOFFSETTO:-0700
TZNAME:PDT
DTSTART:20260308T100000
END:DAYLIGHT
BEGIN:STANDARD
TZOFFSETFROM:-0700
TZOFFSETTO:-0800
TZNAME:PST
DTSTART:20261101T090000
END:STANDARD
BEGIN:DAYLIGHT
TZOFFSETFROM:-0800
TZOFFSETTO:-0700
TZNAME:PDT
DTSTART:20270314T100000
END:DAYLIGHT
BEGIN:STANDARD
TZOFFSETFROM:-0700
TZOFFSETTO:-0800
TZNAME:PST
DTSTART:20271107T090000
END:STANDARD
END:VTIMEZONE
BEGIN:VEVENT
DTSTART;TZID=America/Tijuana:20260526T080000
DTEND;TZID=America/Tijuana:20260526T093000
DTSTAMP:20260423T094821
CREATED:20260331T214312Z
LAST-MODIFIED:20260331T215440Z
UID:10001050-1779782400-1779787800@artandolfaction.com
SUMMARY:Olfactory Research Notes: Sensory Literacies and Children’s Reading (online)
DESCRIPTION:Sign up: https://www.eventbrite.com/e/olfactory-research-notes-sensory-literacies-and-childrens-reading-tickets-1986361038337?lid=zj5izzdshlrl \n– \n\n\nResearcher Radel James Gacumo joins the IAO to share his research into early childhood literacy and sensory studies. Online. \n\n\n\n\nThis talk explores how sensory literacies can deepen our understanding of children’s engagement with reading. Drawing on his doctoral research\, Radel James Gacumo discusses how multisensory and multimodal texts\, including olfaction-enhanced digital books\, shape children’s embodied participation\, meaning-making\, and affective responses in early literacy contexts. The session highlights how sensory experiences can support more inclusive and responsive reading environments and invites educators and researchers to rethink reading as a multisensory\, relational practice. \nThis presentation will be followed by a question and answer session with attendees. \n\n\n\n\nTakeaways and Learning Points: \n\n️Multisensory practices for child educators\nStrategies for reading engagement\nIntroduction to multisensory and multimodal texts and their use\n\n\n\n\n\nABOUT RADEL JAMES GACUMO \nRadel James Gacumo is a researcher in early childhood literacy and sensory studies based at the University of Stavanger\, Norway. His work examines how multisensory and multimodal texts shape young children’s engagement\, meaning-making\, and experiences of inclusion. He develops Critical Sensory Multimodal Literacy\, a framework that brings together sensory studies\, multimodality\, and critical literacy to understand reading as an embodied and socially situated practice. His research spans sensory literacies\, children’s literature\, and olfaction-enhanced reading in early education. \n\n\n\n\nABOUT OLFACTORY RESEARCH NOTES \nOlfactory Research Notes is a lecture series presented by the Institute for Art and Olfaction that highlights important research done in the field of olfaction\, directly from the scientists\, researchers\, academics\, and artists who do it. \n\n\n\n\nATTENDANCE AND REFUND POLICY \nThis is an online class that will take place on Zoom. The Zoom link will be sent by email approximately 24 hours before the class. Lest this email end up in your spam folder\, please be sure to add hello@artandolfaction.com and noreply@order.eventbrite.com to your address book. \n+ Learn more about how we teach and our community guidelines here: https://artandolfaction.com/newcomers/. \n+ We will upload the class recording after the end of the session\, and share it for 14 days with attendees. This video is view-only\, and expires at the end of the 14 day window. \n+ Unfortunately\, we cannot offer refunds or credit for this class. Note also that event tickets are non-transferable. \nImage credits: Pexels\, Radel James Gacumo.
URL:https://artandolfaction.com/events/olfactory-research-notes-sensory-literacies-and-childrens-reading-online/
LOCATION:On Zoom
CATEGORIES:Education
ATTACH;FMTTYPE=image/jpeg:https://artandolfaction.com/wp-content/uploads/2026/03/ORN-Sensory-Literacies.jpg
END:VEVENT
END:VCALENDAR