BEGIN:VCALENDAR
VERSION:2.0
PRODID:-//The Institute for Art and Olfaction - ECPv6.15.20//NONSGML v1.0//EN
CALSCALE:GREGORIAN
METHOD:PUBLISH
X-ORIGINAL-URL:https://artandolfaction.com
X-WR-CALDESC:Events for The Institute for Art and Olfaction
REFRESH-INTERVAL;VALUE=DURATION:PT1H
X-Robots-Tag:noindex
X-PUBLISHED-TTL:PT1H
BEGIN:VTIMEZONE
TZID:America/Tijuana
BEGIN:DAYLIGHT
TZOFFSETFROM:-0800
TZOFFSETTO:-0700
TZNAME:PDT
DTSTART:20250309T100000
END:DAYLIGHT
BEGIN:STANDARD
TZOFFSETFROM:-0700
TZOFFSETTO:-0800
TZNAME:PST
DTSTART:20251102T090000
END:STANDARD
BEGIN:DAYLIGHT
TZOFFSETFROM:-0800
TZOFFSETTO:-0700
TZNAME:PDT
DTSTART:20260308T100000
END:DAYLIGHT
BEGIN:STANDARD
TZOFFSETFROM:-0700
TZOFFSETTO:-0800
TZNAME:PST
DTSTART:20261101T090000
END:STANDARD
BEGIN:DAYLIGHT
TZOFFSETFROM:-0800
TZOFFSETTO:-0700
TZNAME:PDT
DTSTART:20270314T100000
END:DAYLIGHT
BEGIN:STANDARD
TZOFFSETFROM:-0700
TZOFFSETTO:-0800
TZNAME:PST
DTSTART:20271107T090000
END:STANDARD
END:VTIMEZONE
BEGIN:VEVENT
DTSTART;TZID=America/Tijuana:20260421T173000
DTEND;TZID=America/Tijuana:20260421T193000
DTSTAMP:20260423T123728
CREATED:20260318T024940Z
LAST-MODIFIED:20260407T045122Z
UID:10001036-1776792600-1776799800@artandolfaction.com
SUMMARY:Perfume 101: Perfumery for Beginners (in person)
DESCRIPTION:Sign up: https://www.eventbrite.com/e/perfume-101-perfumery-for-beginners-in-person-tickets-1984780425682 \n– \nPerfume 101 serves as an orientation session for newcomers to the field\, olfactive adventurers\, curious minds\, and budding scent enthusiasts who need a little boost. \nIn this theory-focused introduction to perfumery\, participants will learn about perfume basics such as fragrance families and classifications\, get an introduction to perfume-making in a lab\, and get an introduction to the different kinds of aromatic materials. As a group\, the class will learn the difference between top\, middle and bottom notes\, what’s in a perfume lab\, get a brief introduction to perfume math concepts\, and more. We’ll smell and look at different aromatic materials\, useful labware used in blending scents\, and more! \nParticipants will leave with the basic knowledge they need to start a journey down the rabbit hole of appreciating and even making scent. \nPlease note: This is primarily a lecture-based class\, with a smelling component. There is one group blend exercise and one individual blend exercise\, with participants taking home a small spray vial of their individual scent blend and select reference materials. If you wish to take a class with a hands-on focus\, please register for Introduction to Perfume Blending.
URL:https://artandolfaction.com/events/perfume-101-perfumery-for-beginners-in-person/
LOCATION:The Institute for Art and Olfaction\, 932 Chung King Rd\, Los Angeles\, CA\, 90012\, United States
CATEGORIES:Sorry, this event is sold out.
ATTACH;FMTTYPE=image/jpeg:https://artandolfaction.com/wp-content/uploads/2026/03/EB_Perfume101.jpg
END:VEVENT
END:VCALENDAR