BEGIN:VCALENDAR
VERSION:2.0
PRODID:-//The Institute for Art and Olfaction - ECPv6.15.20//NONSGML v1.0//EN
CALSCALE:GREGORIAN
METHOD:PUBLISH
X-WR-CALNAME:The Institute for Art and Olfaction
X-ORIGINAL-URL:https://artandolfaction.com
X-WR-CALDESC:Events for The Institute for Art and Olfaction
REFRESH-INTERVAL;VALUE=DURATION:PT1H
X-Robots-Tag:noindex
X-PUBLISHED-TTL:PT1H
BEGIN:VTIMEZONE
TZID:America/Tijuana
BEGIN:DAYLIGHT
TZOFFSETFROM:-0800
TZOFFSETTO:-0700
TZNAME:PDT
DTSTART:20250309T100000
END:DAYLIGHT
BEGIN:STANDARD
TZOFFSETFROM:-0700
TZOFFSETTO:-0800
TZNAME:PST
DTSTART:20251102T090000
END:STANDARD
BEGIN:DAYLIGHT
TZOFFSETFROM:-0800
TZOFFSETTO:-0700
TZNAME:PDT
DTSTART:20260308T100000
END:DAYLIGHT
BEGIN:STANDARD
TZOFFSETFROM:-0700
TZOFFSETTO:-0800
TZNAME:PST
DTSTART:20261101T090000
END:STANDARD
BEGIN:DAYLIGHT
TZOFFSETFROM:-0800
TZOFFSETTO:-0700
TZNAME:PDT
DTSTART:20270314T100000
END:DAYLIGHT
BEGIN:STANDARD
TZOFFSETFROM:-0700
TZOFFSETTO:-0800
TZNAME:PST
DTSTART:20271107T090000
END:STANDARD
END:VTIMEZONE
BEGIN:VEVENT
DTSTART;TZID=America/Tijuana:20260224T180000
DTEND;TZID=America/Tijuana:20260224T210000
DTSTAMP:20260423T160958
CREATED:20260219T224626Z
LAST-MODIFIED:20260219T224815Z
UID:10001024-1771956000-1771966800@artandolfaction.com
SUMMARY:Opening Reception: Fever Dream
DESCRIPTION:RSVP: https://partiful.com/e/x27rElAejr8IWmk7SQef \n– \nFever Dream is an invitation to the surrealist wilds found at the edge of reality: that charged\, trembling place where the old rules loosen their grip\, chaos purrs\, and strangeness feels like home. Curated with Aurora Projects\, our Spring 26 exhibition brings together artists drawing from global surrealist lineages\, from Mexican spirit lore to Dominican dream-worlds and modern myth-making. Featuring works by Roberto Benavidez\, Larissa De Jesús Negrón\, Anindita Dutta\, Diego Moreno\, and Pedro Troncoso. Across cultures and time\, moments of upheaval have often produced revivals of esoteric thinking\, mystical symbolism\, and surrealist creative movements. When systems collapse\, our trust in logic and straight-line thinking crumbles along with them. So we reach for other maps: the subconscious\, the spiritual\, the strange. The places that still feel alive. \n  \nFEVER DREAM: ON RE-WILDING\nOpening Tues Feb 24\, 6-9PM\nFriday Gallery\, ROWDTLA 767 S. Alameda St\, Suite 198\, Los Angeles
URL:https://artandolfaction.com/events/fever-dream-opening-reception/
LOCATION:Friday Gallery\, 767 S. Alameda St\, Suite 198\, Los Angeles\, CA\, 90021\, United States
CATEGORIES:Art
ATTACH;FMTTYPE=image/jpeg:https://artandolfaction.com/wp-content/uploads/2026/02/FridayGallery.jpg
END:VEVENT
END:VCALENDAR