BEGIN:VCALENDAR
VERSION:2.0
PRODID:-//The Institute for Art and Olfaction - ECPv6.15.20//NONSGML v1.0//EN
CALSCALE:GREGORIAN
METHOD:PUBLISH
X-ORIGINAL-URL:https://artandolfaction.com
X-WR-CALDESC:Events for The Institute for Art and Olfaction
REFRESH-INTERVAL;VALUE=DURATION:PT1H
X-Robots-Tag:noindex
X-PUBLISHED-TTL:PT1H
BEGIN:VTIMEZONE
TZID:America/Tijuana
BEGIN:DAYLIGHT
TZOFFSETFROM:-0800
TZOFFSETTO:-0700
TZNAME:PDT
DTSTART:20250309T100000
END:DAYLIGHT
BEGIN:STANDARD
TZOFFSETFROM:-0700
TZOFFSETTO:-0800
TZNAME:PST
DTSTART:20251102T090000
END:STANDARD
BEGIN:DAYLIGHT
TZOFFSETFROM:-0800
TZOFFSETTO:-0700
TZNAME:PDT
DTSTART:20260308T100000
END:DAYLIGHT
BEGIN:STANDARD
TZOFFSETFROM:-0700
TZOFFSETTO:-0800
TZNAME:PST
DTSTART:20261101T090000
END:STANDARD
BEGIN:DAYLIGHT
TZOFFSETFROM:-0800
TZOFFSETTO:-0700
TZNAME:PDT
DTSTART:20270314T100000
END:DAYLIGHT
BEGIN:STANDARD
TZOFFSETFROM:-0700
TZOFFSETTO:-0800
TZNAME:PST
DTSTART:20271107T090000
END:STANDARD
END:VTIMEZONE
BEGIN:VEVENT
DTSTART;TZID=America/Tijuana:20260210T173000
DTEND;TZID=America/Tijuana:20260210T200000
DTSTAMP:20260423T120146
CREATED:20251214T004625Z
LAST-MODIFIED:20260111T164211Z
UID:10000989-1770744600-1770753600@artandolfaction.com
SUMMARY:Introduction to Perfume Blending\, with Julianne Lee (in person)
DESCRIPTION:Sign up here: https://www.eventbrite.com/e/introduction-to-perfume-blending-with-julianne-lee-in-person-tickets-1977678871743?aff=oddtdtcreator \n– \nJoin us for Introduction to Blending\, a class for beginners of the craft\, focused on learning how to blend with aromatic materials and balance a formula. Perfume-lovers and burgeoning olfactory artists have the opportunity to jump right into making their desired scent-dreams into reality with access to the hundreds of aromatic materials in the IAO labspace. \nThe class will begin with a quick primer to the world of aromatic materials: synthetics vs. naturals\, top/middle/base notes\, and dilutions. Participants will be guided through the process of setting up a workstation and how to write a perfume formula\, with proportions and balance in mind. \nThe second portion of the class will be the open exploration of the IAO Organ by all participants. After making individual selections\, we will get to blending! With Julianne Lee guiding the class\, each participant will learn to make bold changes\, subtle refinements\, and expand their final formula into a small spray vial to take home. \nTopics covered: \n+ A quick primer on perfumery and aromatic materials: synthetics vs. naturals\, top/middle/base notes\, dilutions \n+ Exploring the IAO’s full organ of 300+ materials \n+ Selecting and working with 5 materials of your choice \n+ Introduction to setting up your blending workstation \n+ Introduction to composing and refining a perfume formula \nThe Institute for Art and Olfaction
URL:https://artandolfaction.com/events/introduction-to-perfume-blending-with-julianne-lee-in-person-7/
LOCATION:The Institute for Art and Olfaction\, 932 Chung King Rd\, Los Angeles\, CA\, 90012\, United States
CATEGORIES:Sorry, this event is sold out.
ATTACH;FMTTYPE=image/jpeg:https://artandolfaction.com/wp-content/uploads/2025/12/EB_Lab-Work_2160x1080.jpg
END:VEVENT
BEGIN:VEVENT
DTSTART;TZID=America/Tijuana:20260208T143000
DTEND;TZID=America/Tijuana:20260208T170000
DTSTAMP:20260423T120146
CREATED:20260127T015613Z
LAST-MODIFIED:20260202T002418Z
UID:10001014-1770561000-1770570000@artandolfaction.com
SUMMARY:Open Sessions: First Timers Only (in person)
DESCRIPTION:Sign up: https://www.eventbrite.com/e/open-sessions-first-timers-only-tickets-1981595640905?aff=oddtdtcreator \n– \nBlending aromatic molecules together into a composed perfume is not only fun\, but creative\, challenging and – sometimes – kinda relaxing. We can’t promise you that you’ll make the next Chanel No. 5\, but we can guarantee that you’ll come away with a healthy respect for the art\, science\, materials\, and skill it takes to make perfume. Open Sessions are the IAO’s longest running program. This onboarding experience is designed precisely for beginners who learn best by diving in. \nThese guided sessions are a great chance to get your first experiences with scent blending! \nAfter getting a one-hour introduction to the session’s curated materials\, you will be able to independently tinker with materials from the chosen palette in a casual setting. We have everything you need: aromatic materials (natural\, synthetic\, accords)\, vials and droppers\, scent strips and travel sprays… All you need to bring is an open mind. Down the rabbit hole you go! \nThe Institute for Art and Olfaction
URL:https://artandolfaction.com/events/open-sessions-first-timers-only-in-person-2/
LOCATION:The Institute for Art and Olfaction\, 932 Chung King Rd\, Los Angeles\, CA\, 90012\, United States
CATEGORIES:Sorry, this event is sold out.
ATTACH;FMTTYPE=image/jpeg:https://artandolfaction.com/wp-content/uploads/2025/12/EB_Lab-Student1.jpg
END:VEVENT
BEGIN:VEVENT
DTSTART;TZID=America/Tijuana:20260205T100000
DTEND;TZID=America/Tijuana:20260205T120000
DTSTAMP:20260423T120146
CREATED:20251205T031049Z
LAST-MODIFIED:20260112T144751Z
UID:10000977-1770285600-1770292800@artandolfaction.com
SUMMARY:Perfume 101\, 202\, 303 Course (Online: Live + Video)
DESCRIPTION:Sign up: https://www.eventbrite.com/e/perfume-101-202-303-course-online-live-video-tickets-1976994332267?aff=oddtdtcreator \n– \n\n\nThis class meets online on February 5\, 2026 from10am to 12pm PDT for Perfume 101 and February 19\, 2026 from 10 to 11:30am PDT for Live Q&A for Perfume 202 and 303\, with the prerecorded lectures for Perfume 202 and 303 released on February 12\, 2026. \n\n\n\n\nPerfume is an art\, a science and a craft. This set of classes serves as an orientation session for newcomers to the field\, olfactive adventurers\, curious minds\, and budding scent enthusiasts who need a little boost. \nPerfume 101\nIn this lecture-based introduction to perfumery\, participants will learn about perfume basics such as fragrance families and classifications\, get an introduction to perfume-making in a lab\, and get an introduction to the different kinds of aromatic materials. Participants will leave with the basic knowledge they need to start a journey down the rabbit hole of appreciating and even making scent\, as well as a more considered understanding of what they encounter at the fragrance counter. \nTopics covered:\nIntroduction to scent literacy\nIntroduction to aromatic materials\nIntroduction to perfume creation\nIntroduction to learning resources provided by The Institute for Art and Olfaction \nThis is an online class that will occur live on Zoom. The video for this session will be available to replay on Zoom for one week after the session ends. \n  \nPerfume 202 + Perfume 303\nThoughtful creative preparations and revisions can provide the structure for a thriving artistic output in perfumery. Join Ashley Eden Kessler in two pre-recorded lectures and one live Q&A as she guides you through the important first steps of setting up your own perfume laboratory and working on perfume blends. \nPerfume 202: Lab Strategies \nGood lab practices can provide the backbone for a thriving creative practice and – for that reason – perfumer Ashley Eden Kessler leads a class that is designed to provide you with the important next steps in your practice. Providing crucial information for setting up a professional perfume lab\, and helping you ensure that your practice is built on a solid foundation\, Perfume 202 covers the important technical minutiae of your perfume practice\, from how to use a scale to how to make a lab solution\, an overview of lab hygiene and organization\, and how to set up and maintain a working scent organ. This class will allow you to orient yourself as an aspiring perfumer\, and help you set up a thriving independent perfume laboratory of your own. \nTopics covered:\nPipette techniques (basic and advanced)\nHow to use a scale with confidence\nOverview of lab hygiene and organization\nSetting up your work station\nOverview of perfume organ set-up and maintenance\nMaking dilutions from pure\, for safe use in perfume-blending \nPerfume 303: Perfume Composition Techniques \nDesigned to provide important next steps for budding perfumers\, Perfume 303 will teach you the crucial information for setting up a professional perfume organ\, conceptualizing and creating perfume formulas\, and helping you ensure that your practice is built on a good artistic habits. \nThis recurring online class will cover the important creative minutiae. We will review how to organize your library of aromatic materials\, talk about how to select your palette for composition\, discuss how to best track your formulas\, and learn strategies for how to evaluate your trials. \nThis class\, in short\, will allow you to ground yourself as an aspiring independent perfumer\, and help you develop a methodological approach that will support your long-term practice and give structure upon which your creativity can thrive. \nTopics Covered:\nHow to choose a material palette for perfume composition\nOverview of perfume formula writing and maintenance\nIntroduction to organizing perfume formula writing\nHow to evaluate perfume trials and revise formulae\nTechniques for saving perfume trials \nThis class is a hybrid video and live online Q+A session. We will send the link to the video portions before the live Q+A. All participants must watch the prerecorded videos for Perfume 202 and 303 before attending the live Q&A session. \nFor the live event\, Ashley Eden Kessler will join for a 1.5 hour Q+A session to cover questions and more. \n\n\n\n\nSchedule of Classes\nFebruary 5\, 2026 -10am-12pm PDT\nPerfume 101 – live on Zoom\, with 1 week video replay. \nFebruary 12\, 2026\nAccess to pre-recorded lectures for Perfume 202 and 303 – video replay. \nFebruary 19\, 2026 10-11:30am PDT\nLive Q&A for Perfume 202 and 303 –  live on Zoom\, with 1 week video replay. \nA ticket allows for access to the live classes\, prerecorded lectures\, and videos of the classes after they’ve taken place. Videos are available for 7 days after each session. \n\n\nThe Institute for Art and Olfaction
URL:https://artandolfaction.com/events/perfume-101-202-303-course-online-live-video/
LOCATION:On Zoom
CATEGORIES:Education,Online Event
ATTACH;FMTTYPE=image/jpeg:https://artandolfaction.com/wp-content/uploads/2025/12/101202303_Scale.jpg
END:VEVENT
BEGIN:VEVENT
DTSTART;TZID=America/Tijuana:20260204T173000
DTEND;TZID=America/Tijuana:20260204T193000
DTSTAMP:20260423T120146
CREATED:20251214T004437Z
LAST-MODIFIED:20260108T174407Z
UID:10000988-1770226200-1770233400@artandolfaction.com
SUMMARY:Open Session for Returning Students (in person)
DESCRIPTION:Sign up: https://www.eventbrite.com/e/open-sessions-returning-students-only-february-tickets-1977675824629?aff=oddtdtcreator \n– \nAromatic materials are not included. Bring your own materials or purchase small quantities from us. \nOur open sessions for returning students only are designed as an informal\, convivial space in which to co-work with other perfumers. Relaxed and self-directed (don’t worry\, we’re here to help)\, these sessions are a great chance to refine a formula\, work out an idea or just hang out with like-minded colleagues. Let’s learn from each other\, and make new friends. \nRelaxed and self-directed\, these informal sessions are a great chance to refine your blending techniques in the presence of other scent enthusiasts and #friendswithpipettes. Open Sessions are the IAO’s longest running program. These Open Sessions for Returning Students Only are designed precisely for newcomers who have already attended one Open Session for First Timers\, intermediate perfumers who want to explore new materials\, or advanced perfumers who want to co-work with a diverse and creative community. \nAs a returning student\, you will be able to independently tinker with materials of your choice in a casual\, social setting.We have everything you need: aromatic materials (natural\, synthetic\, and some accords)\, beakers and droppers\, scent strips and bottles… All you need to bring is a notebook\, and and open mind. Down the rabbit hole you go! \nThe Institute for Art and Olfaction
URL:https://artandolfaction.com/events/open-session-for-returning-students-in-person-3/
LOCATION:The Institute for Art and Olfaction\, 932 Chung King Rd\, Los Angeles\, CA\, 90012\, United States
CATEGORIES:Education,In Person Event
ATTACH;FMTTYPE=image/jpeg:https://artandolfaction.com/wp-content/uploads/2025/12/EB_Lab-Student1.jpg
END:VEVENT
BEGIN:VEVENT
DTSTART;TZID=America/Tijuana:20260203T173000
DTEND;TZID=America/Tijuana:20260203T193000
DTSTAMP:20260423T120146
CREATED:20260121T001214Z
LAST-MODIFIED:20260129T232128Z
UID:10001012-1770139800-1770147000@artandolfaction.com
SUMMARY:Make your own perfume: Love edition. (in person)
DESCRIPTION:Sign up: https://www.eventbrite.com/e/make-your-own-perfume-love-edition-in-person-tickets-1981067314667?aff=oddtdtcreator \n– \nIAO founder Saskia Wilson-Brown leads attendees through the basics of perfume composition\, with a very simple goal in mind: To make a new perfume for yourself or for your special person. \nThe class will begin with a quick primer on aromatic materials\, as we smell a curated selection of materials rooted in historic love spells\, practices and stories.The second portion of the class will consist of making: Each participant will be invited to work with the curated materials to create an original composition\, which they will expand on site and decant into a 30ml bottle: A shiny new perfume to celebrate amore. \nImportant notes to manage our expectations:\nThe instructor will be on hand to help you create your own blend\, working with the range of pre-selected materials. If you have a special reques for a material\, please email us before class\, but note that we may not have the material in stock. Note that it is always a possibility that you will not love what you have created! However\, you will have the formula and\, most importantly\, the knowledge you need to tweak it\, on your own\, down the line. \nTopics covered:\n+ An overview of perfume creation\, and aromatic materials.\n+ Smelling and discussing a curated selection of perfume materials\, chosen by the instructor.\n+ Writing a formula.\n+ Compounding a perfume oil at 100%\, putting it in solution\, and decanting. \nTake-Aways:\n+ Participants will leave with a knowledge of the basics of perfume blending\n+ Participants will leave with their formula\n+ Participants will leave with a 30ml bottles of their final scent\, at 10% solution. \nThe Institute for Art and Olfaction
URL:https://artandolfaction.com/events/make-your-own-perfume-love-edition-in-person/
LOCATION:The Institute for Art and Olfaction\, 932 Chung King Rd\, Los Angeles\, CA\, 90012\, United States
CATEGORIES:Sorry, this event is sold out.
ATTACH;FMTTYPE=image/jpeg:https://artandolfaction.com/wp-content/uploads/2026/01/EB_Lovelclass_SliderCal.jpg
END:VEVENT
BEGIN:VEVENT
DTSTART;TZID=America/Tijuana:20260131T150000
DTEND;TZID=America/Tijuana:20260131T170000
DTSTAMP:20260423T120146
CREATED:20251220T170318Z
LAST-MODIFIED:20260108T173544Z
UID:10000992-1769871600-1769878800@artandolfaction.com
SUMMARY:The Sacred Wood: An Olfactory Journey Through Aloeswood (in person)
DESCRIPTION:Sign up: https://www.eventbrite.com/e/the-sacred-wood-an-olfactory-journey-through-aloeswood-in-person-tickets-1978743373697?aff=oddtdtcreator \n– \nFor over two thousand years\, aloeswood—known as oud\, agarwood\, gaharu\, jinkō—has been burned in Buddhist temples\, Sufi gatherings\, and traditional healing practices across Asia and the Middle East for centuries. This session offers direct encounter with one of the world’s rarest aromatic materials\, exploring its cultural histories\, spiritual significance\, and contemporary challenges. \nParticipants will experience carefully curated specimens including wild and cultivated woods\, oils\, incense materials\, and traditional burning implements. Through guided comparison and traditional burning demonstrations\, the session will trace how aloeswood has functioned as medicine\, meditation aid\, sacred offering\, and cultural medium across multiple wisdom traditions. \nWhat Participants Will Experience: \n– Olfactory exploration of wild and cultivated aloeswood from different regions\, understanding grades\, origins\, and processing methods\n– Traditional burning techniques using authentic implements\, discovering how heat and preparation transform raw material into experience\n– Cultural and historical context tracing aloeswood’s role in Buddhist\, Islamic\, and medical traditions from the Silk Road to contemporary perfumery\n– Contemporary realities including sustainability\, authentication\, and the tension between traditional use and luxury markets \nThe Institute for Art and Olfaction
URL:https://artandolfaction.com/events/the-sacred-wood-an-olfactory-journey-through-aloeswood-in-person/
LOCATION:The Institute for Art and Olfaction\, 932 Chung King Rd\, Los Angeles\, CA\, 90012\, United States
CATEGORIES:Sorry, this event is sold out.
ATTACH;FMTTYPE=image/jpeg:https://artandolfaction.com/wp-content/uploads/2025/12/EB_Oud_New.jpg
END:VEVENT
BEGIN:VEVENT
DTSTART;TZID=America/Tijuana:20260129T100000
DTEND;TZID=America/Tijuana:20260129T120000
DTSTAMP:20260423T120146
CREATED:20251112T024958Z
LAST-MODIFIED:20260108T173326Z
UID:10000970-1769680800-1769688000@artandolfaction.com
SUMMARY:Pipe Tobacco: Perfume Accords (online)
DESCRIPTION:Sign up: https://www.eventbrite.com/e/pipe-tobacco-perfume-accords-online-tickets-1963605799806?aff=oddtdtcreator \n– \nExplore fragrance categories through specific classes designed by The Institute for Art and Olfaction to help new perfumers gain sensory understanding and technical perfumery skills. \nIn the latest of her accords classes\, Ashley leads an investigation into a dry\, rich\, woody pipe tobacco perfume accord. Learning how to assemble perfume accords leads to a greater adeptness at blending\, and well-trained noses. Learn how to construct accords as you explore the individual aromatic components of these perfume accords. \nMaterials Needed/Pre-Class Homework:\nWe will send you a master document containing the materials list and formulation exercises upon signup via the confirmation email from Eventbrite. Please purchase these materials before attending class. The estimated cost of the perfume materials is $91\, not including any labware you may need to purchase. The formulation exercises must be accomplished before the class meets. \n– \nPhoto by Mehdi Imani on Unsplash \nThe Institute for Art and Olfaction
URL:https://artandolfaction.com/events/pipe-tobacco-perfume-accords-online/
LOCATION:On Zoom
CATEGORIES:Education,Online Event
ATTACH;FMTTYPE=image/jpeg:https://artandolfaction.com/wp-content/uploads/2025/11/EB_pipetobacco_slider.jpg
END:VEVENT
BEGIN:VEVENT
DTSTART;TZID=America/Tijuana:20260127T100000
DTEND;TZID=America/Tijuana:20260127T113000
DTSTAMP:20260423T120146
CREATED:20251214T003817Z
LAST-MODIFIED:20260108T173110Z
UID:10000987-1769508000-1769513400@artandolfaction.com
SUMMARY:Tracing Perfume: A Genealogy of Green Woods & Resins (online)
DESCRIPTION:Sign up: https://www.eventbrite.com/e/tracing-perfume-a-genealogy-of-green-woods-resins-online-tickets-1977675046301?aff=oddtdtcreator \n– \n\n\nDana El Masri explores the history of fine fragrance through a series of classes that cover the genealogy of scent. How did aromatic materials influence perfumery? How did perfumers draw from the same source to produce such diverse expressions? Each class in this series explores the most important perfumes in 20th and 21st perfumery from the perspective of the materials that inform them. \nIn this class\, Dana covers perfumes highlighting all green materials\, focusing on green woods and resins\, with special attention to cypress\, pine\, fir balsam\, galbanum\, cassis\, and more. She will explore the material provenance\, aromatic aspects\, and notable perfumes that make use of these green notes in various ways. Then\, as a group\, the class will discuss a series of notes and perfumes that elucidate the category. \n\n\n\n\nTopics covered:\n– History and cultural impact of perfume materials\n– Technical information about perfume materials\n– Overview of these materials in classic\, contemporary\, mass market\, and niche perfumes \n– \n\nImage credit: Photo by Bart on Unsplash  \n\nThe Institute for Art and Olfaction
URL:https://artandolfaction.com/events/tracing-perfume-a-genealogy-of-green-woods-resins-online/
LOCATION:On Zoom
CATEGORIES:Education,Online Event
ATTACH;FMTTYPE=image/jpeg:https://artandolfaction.com/wp-content/uploads/2025/12/Greenwoods_EB.jpg
END:VEVENT
BEGIN:VEVENT
DTSTART;TZID=America/Tijuana:20260126T100000
DTEND;TZID=America/Tijuana:20260126T120000
DTSTAMP:20260423T120146
CREATED:20251105T204834Z
LAST-MODIFIED:20260105T204900Z
UID:10000962-1769421600-1769428800@artandolfaction.com
SUMMARY:Eleven Week Perfume Materials Course - Module 3 (online)
DESCRIPTION:Sign up: https://www.eventbrite.com/e/eleven-week-perfume-materials-course-module-3-tickets-1963479904249?aff=oddtdtcreator \n– \n\nAshley Eden Kessler leads an eleven week session exploring crucial materials in the perfumers’ organ. Online.\n\n\n\nPerfumer Ashley Eden Kessler leads an online eleven week course exploring the crucial materials in the perfumers’ organ—an indispensable first step in learning perfumery\, and an opportunity to grow a technical familiarity with the materials. \nRegistration includes a Materials Kit (55 materials\, scent strips) \n  \n\n\n\n\nABOUT THIS MATERIALS COURSE \nThis is Module 3 of a total of three modules. These modules are not consecutive: any student can start at any module (though modules one and two cover more commonly used materials). This module is appropriate for beginners and intermediate perfumers alike. \nIn each 2-hour online session\, Ashley will lead attendees in smelling and discussing five crucial perfume materials of natural and synthetic origin. Over the eleven total sessions offered in this course\, the group will systematically go through the course material\, category by category. We thoughtfully explore the function\, aesthetics and technicalities of each material in the context of other aromatics from its fragrance family. \nEach session focuses on our unique experience with the materials. By sharing these experiences\, we work towards developing a language\, both personal and communal\, for our experience of scent. Through this course\, participants will gain fluency in the most important molecules of modern perfumery. Growing a familiarity with the materials is\, after all\, a crucial first step in practicing perfumery. \nThere is a lot to gain from this slow-paced work. For newcomers to fragrance\, this intimate knowledge of the materials is indispensable\, offering a grounding and deeply enriching practice that brings us into the present and connects us more deeply to our lived experience—and our creativity. For more experienced perfumers\, the class presents an opportunity to enrich the process and technical knowledge necessary to mastery. \n  \n\n\n\n\nSESSION BREAKDOWN: MODULE 3 (Mondays\, 10 am – 12 pm) \nMon. Jan 26: Meet and Greet\, Course Review \nMon. Feb 2: Week 1 Powdery Synthetic \nMon. Feb 9: Week 2 Powdery\, Balsamic\, Misc. Natural \nMon. Feb 16: Week 3 Musk Synthetic \nMon. Feb 23: Week 4 Animalic Natural\, Animalic Synthetic \nMon. Mar 2: Week 5 Anisic Synthetic \nMon. Mar 9: Week 6 Anisic Natural \nMon. Mar 16: Week 7 Vanilla Synthetic\, Balsamic Synthetic \nMon. Mar 23: Week 8 Balsamic Natural \nMon. Mar 30: Week 9 Minty Synthetic\, Minty Natural \nMon. Apr 6: Week 10 Aromatic Synthetic\, Aromatic Natural \nMon. Apr 13: Week 11 Aromatic Natural \n\n\nThe Institute for Art and Olfaction
URL:https://artandolfaction.com/events/eleven-week-perfume-materials-course-module-3-online/
LOCATION:On Zoom
CATEGORIES:Education,Online Event
ATTACH;FMTTYPE=image/jpeg:https://artandolfaction.com/wp-content/uploads/2025/11/Ashley_Smiles_EB.jpg
END:VEVENT
BEGIN:VEVENT
DTSTART;TZID=America/Tijuana:20260123T100000
DTEND;TZID=America/Tijuana:20260123T110000
DTSTAMP:20260423T120146
CREATED:20251112T014408Z
LAST-MODIFIED:20260108T165722Z
UID:10000969-1769162400-1769166000@artandolfaction.com
SUMMARY:'Demo Accords': Author Reading and Chat with Pia Long (online)
DESCRIPTION:Sign up: https://www.eventbrite.com/e/demo-accords-author-reading-and-chat-with-pia-long-online-tickets-1761739362859?aff=oddtdtcreator \n– \nJoin us as we welcome perfumer and writer Pia Long for a discussion about her new book\, DEMO ACCORDS. Attendance for this online event is by donation through Eventbrite. \nDEMO ACCORDS is an interdisciplinary art project combining nine essays\, one short story and ten fully published perfume formulas with original illustrations into a multlayered narratve. A “demo accord” is fragrance industry speak for an open formula shown at trade shows in order to demonstrate a new perfumery ingredient or technique. A demonstration in political context is a protest. \nIn this work perfumer and author Pia Long explores the intersection between her two lifelong loves: writing and perfumery. Part manifesto\, part polemic\, part protest\, part autobiography\, the common thread is radical vulnerability of the perfumer’s art\, practice and personal views. \nInterrogating some fundamental questions about who perfumery belongs to and creating a parallel platform without a brand or a commercial consumer product\, Demo Accords aims to exist for its own sake as a project that uses perfumery as an artistic storytelling device. \nIf the book is a script\, then the formulas are sheet music\, and the actual resulting liquid is therefore the orchestra playing. It is not necessary or compulsory to buy the liquid perfume sample kit to go with the book but it will help everyone hear the music. \nThe book has signiﬁcant contributions from Nick Gilbert who wrote the scent descriptions and notes lists\, as though for a protest perfume brand. Featuring original illustrations from multiple artists and a full colour cover by a Brighton street artist\, Demo Accords is more than the sum of its parts. \nLearn more about DEMO ACCORDS and order. \nThe Institute for Art and Olfaction
URL:https://artandolfaction.com/events/demo-accords-author-reading-and-chat-with-pia-long-online/
LOCATION:On Zoom
CATEGORIES:Education,Online Event
ATTACH;FMTTYPE=image/jpeg:https://artandolfaction.com/wp-content/uploads/2026/01/EB_PiaLong_Book2.jpg
END:VEVENT
END:VCALENDAR