BEGIN:VCALENDAR
VERSION:2.0
PRODID:-//The Institute for Art and Olfaction - ECPv6.15.20//NONSGML v1.0//EN
CALSCALE:GREGORIAN
METHOD:PUBLISH
X-WR-CALNAME:The Institute for Art and Olfaction
X-ORIGINAL-URL:https://artandolfaction.com
X-WR-CALDESC:Events for The Institute for Art and Olfaction
REFRESH-INTERVAL;VALUE=DURATION:PT1H
X-Robots-Tag:noindex
X-PUBLISHED-TTL:PT1H
BEGIN:VTIMEZONE
TZID:America/Tijuana
BEGIN:DAYLIGHT
TZOFFSETFROM:-0800
TZOFFSETTO:-0700
TZNAME:PDT
DTSTART:20250309T100000
END:DAYLIGHT
BEGIN:STANDARD
TZOFFSETFROM:-0700
TZOFFSETTO:-0800
TZNAME:PST
DTSTART:20251102T090000
END:STANDARD
BEGIN:DAYLIGHT
TZOFFSETFROM:-0800
TZOFFSETTO:-0700
TZNAME:PDT
DTSTART:20260308T100000
END:DAYLIGHT
BEGIN:STANDARD
TZOFFSETFROM:-0700
TZOFFSETTO:-0800
TZNAME:PST
DTSTART:20261101T090000
END:STANDARD
BEGIN:DAYLIGHT
TZOFFSETFROM:-0800
TZOFFSETTO:-0700
TZNAME:PDT
DTSTART:20270314T100000
END:DAYLIGHT
BEGIN:STANDARD
TZOFFSETFROM:-0700
TZOFFSETTO:-0800
TZNAME:PST
DTSTART:20271107T090000
END:STANDARD
END:VTIMEZONE
BEGIN:VEVENT
DTSTART;TZID=America/Tijuana:20260423T173000
DTEND;TZID=America/Tijuana:20260423T200000
DTSTAMP:20260423T034110
CREATED:20260318T025210Z
LAST-MODIFIED:20260421T145107Z
UID:10001037-1776965400-1776974400@artandolfaction.com
SUMMARY:Introduction to Perfume Blending: Structured (in person)
DESCRIPTION:Sign up: https://www.eventbrite.com/e/introduction-to-perfume-blending-structured-in-person-tickets-1984794855843 \n– \nJoin us for a structured approacg to perfume blending. This class is designed for newcomers and beginners of the craft as an onboarding to working with scent at the Institute for Art and Olfaction. \nIn this class\, Minetta Rogers will introduce you to the foundational terminology and techniques of perfumery as we guide you through the steps of working with aromatic materials in our labspace. The class will begin with a guided smelling session that introduces you to the world of aromatic materials. You’ll smell a selection of materials from our organ that shine light on the difference between naturals\, synthetics\, and bases; top\, middle\, and base notes; and different dilutions and odor intensities. As a group\, you’ll take part in several group blending exercises to demonstrate proper technique in writing perfume formula iterations and blending scent trials.The second portion of the class is dedicated to individual blending time\, with a selection of 5 materials chosen and decanted into blending vials by you. \nMinetta Rogers is here to assist with material selection\, formula tweaking\, and basic perfume arithmetic as you experiment\, explore\, and learn. At the end of class\, you’ll take home 5 aromatic materials\, a final spray vial of your own formulated blend\, and perfume-making knowledge! \nThe Institute for Art and Olfaction
URL:https://artandolfaction.com/events/introduction-to-perfume-blending-structured-2/
LOCATION:The Institute for Art and Olfaction\, 932 Chung King Rd\, Los Angeles\, CA\, 90012\, United States
CATEGORIES:Sorry, this event is sold out.
ATTACH;FMTTYPE=image/jpeg:https://artandolfaction.com/wp-content/uploads/2026/02/EB_Lab-DippingBottle.jpg
END:VEVENT
BEGIN:VEVENT
DTSTART;TZID=America/Tijuana:20260428T173000
DTEND;TZID=America/Tijuana:20260428T200000
DTSTAMP:20260423T034110
CREATED:20260318T025415Z
LAST-MODIFIED:20260421T144606Z
UID:10001038-1777397400-1777406400@artandolfaction.com
SUMMARY:Introduction to Perfume Blending: Freestyle (in person)
DESCRIPTION:Sign up: https://www.eventbrite.com/e/introduction-to-perfume-blending-freestyle-in-person-tickets-1984780808828 \n– \nJoin us for Introduction to Blending\, a class for beginners to perfumery that is focused on learning how to blend with aromatic materials\, and how to create (and balance) a formula. Perfume-lovers and burgeoning olfactory artists have the opportunity to jump right into making their scent dreams a reality\, with access to the hundreds of aromatic materials in the IAO lab space. \nThe class will begin with a quick primer to the world of aromatic materials: synthetics vs. naturals\, top/middle/base notes\, and dilutions. Participants will be guided through the process of setting up a workstation and how to write a perfume formula\, with proportions and balance in mind. \nThe second portion of the class will be the open exploration of the IAO Organ by all participants. After making individual selections\, we will get to blending! With Julianne Lee guiding the class\, each participant will learn to make bold changes\, subtle refinements\, and expand their final formula into a small spray vial to take home. \nThe Institute for Art and Olfaction
URL:https://artandolfaction.com/events/introduction-to-perfume-blending-freestyle-in-person-4/
LOCATION:The Institute for Art and Olfaction\, 932 Chung King Rd\, Los Angeles\, CA\, 90012\, United States
CATEGORIES:Sorry, this event is sold out.
ATTACH;FMTTYPE=image/jpeg:https://artandolfaction.com/wp-content/uploads/2026/03/EB_Julianne_Simple_Smelling.jpg
END:VEVENT
BEGIN:VEVENT
DTSTART;TZID=America/Tijuana:20260429T090000
DTEND;TZID=America/Tijuana:20260429T100000
DTSTAMP:20260423T034110
CREATED:20260330T144112Z
LAST-MODIFIED:20260330T144200Z
UID:10001043-1777453200-1777456800@artandolfaction.com
SUMMARY:Meet a Nose: Andrea Maack (online)
DESCRIPTION:Sign up: https://www.eventbrite.com/e/meet-a-nose-andrea-maack-online-tickets-1986038655080?aff=oddtdtcreator \n– \nEach edition of Meet a Nose takes the form of a one-hour discussion moderated by IAO founder Saskia Wilson-Brown\, in which extraordinary thinkers\, singular artists\, and distinctive perfumers from around the world share their unique perspectives on what it means to be a sensorial human in the world. \nAndrea Maack is an Icelandic visual artist\, who launched her first perfume as an art piece. “The idea of working with scent came about through a series of exhibitions I always envisioned only making one fragrance titled SMART (Smell Art)\, but after that show\, I was hooked on this process and started working on scented installations full time\,” she explains. \nSoon after that show\, in 2012\, Maack decided to develop a luxury fragrance brand—ANDREA MAACK. “The brand came about when I was invited to host the opening show of a design gallery in downtown Reykjavík and I decided to do an art installation in the form of a “Andrea Maack perfume shop”. \nFor Maack\, the link between visual art and perfumery is a palpable one. “I see scent as a linear thing — it travels along your skin and travels through the air\, which can be reminiscent of strokes traveling across a page.” \nThe Institute for Art and Olfaction
URL:https://artandolfaction.com/events/meet-a-nose-andrea-maack-online/
LOCATION:The Institute for Art and Olfaction\, 932 Chung King Rd\, Los Angeles\, CA\, 90012\, United States
CATEGORIES:Education,Online Event
ATTACH;FMTTYPE=image/jpeg:https://artandolfaction.com/wp-content/uploads/2026/03/AndreaMaak_Slider.jpg
END:VEVENT
BEGIN:VEVENT
DTSTART;TZID=America/Tijuana:20260429T180000
DTEND;TZID=America/Tijuana:20260429T200000
DTSTAMP:20260423T034110
CREATED:20260331T210823Z
LAST-MODIFIED:20260421T144627Z
UID:10001049-1777485600-1777492800@artandolfaction.com
SUMMARY:“What’s That Smell?" An Olfactory Game of Nose Training (in person)
DESCRIPTION:Sign up: https://www.eventbrite.com/e/whats-that-smell-an-olfactory-game-of-nose-training-in-person-tickets-1986361609044?aff=oddtdtcreator&keep_tld=true \n– \nWould a rose by any other name smell as sweet? Let’s find out! \n“What’s that Smell?” is a game night that puts your nose to the test. Participants are presented with 10 aromatic materials\, all anonymous\, to sniff\, reflect\, and possibly identify. After recording impressions and best guesses\, the group will collectively share olfactory impressions\, after which we will unveil the aromatic materials’ identities and characters. \nJoin us for this engaging and educational encounter: Meet new\, strange (to you!) molecules with fellow smell-hounds\, while you develop your skills of olfactory recall. \nTopics covered: \n+ An introduction to nose training for scent enthusiasts and budding perfumers \n+ Encounter unknown aromatic materials in a fun communal setting \n+ Add to your olfactory recall and knowledge \nTake-Aways: \n+ Foundational education in olfactory recall and material evaluation \n+ A new enthusiasm for the building blocks of perfumery \n+ One of the most fun experiences of your life \nThe Institute for Art and Olfaction
URL:https://artandolfaction.com/events/whats-that-smell-an-olfactory-game-of-nose-training-in-person/
LOCATION:The Institute for Art and Olfaction\, 932 Chung King Rd\, Los Angeles\, CA\, 90012\, United States
CATEGORIES:Sorry, this event is sold out.
ATTACH;FMTTYPE=image/jpeg:https://artandolfaction.com/wp-content/uploads/2026/03/WhatsThatSmell_EB2.jpg
END:VEVENT
BEGIN:VEVENT
DTSTART;TZID=America/Tijuana:20260502T130000
DTEND;TZID=America/Tijuana:20260502T160000
DTSTAMP:20260423T034110
CREATED:20260330T043714Z
LAST-MODIFIED:20260330T043806Z
UID:10001042-1777726800-1777737600@artandolfaction.com
SUMMARY:Open Purchasing Hours
DESCRIPTION:RSVP: https://www.eventbrite.com/e/open-purchasing-hours-tickets-1986039077343?aff=oddtdtcreator \n– \nThe public is invited to peruse our Student Organ and purchase small vials of aromamaterials. Our offerings also include a curated selection of books\, magazines\, and fragrance wheels. \nFor ease\, please check out our online Inventory to see what will be on offer; you can assemble your shopping lists ahead of time!* This is a convenient time to purchase materials for classes that have Materials Lists\, as well expand your personal collection of scents for your own creative endeavors. \nOur pricing is as follows: \n• 5/8 Dram Vials for $4.00 (Refills for $2.00) \n• 1 Dram Vials for $6.00 (Refills for $3.00) \nThe library will be open for enjoyment as well. Staff will be present to assist with the sales but cannot provide consultation or education. RSVP is appreciated\, but walk-ins are welcome! \n*Our inventory can be seen at the following spreadsheet\, under the tab “Student Organ”: https://docs.google.com/spreadsheets/d/1E6RW6AYBrwL20Rd4FKbtdg-LrNvN07KS5wFP1L1oR_8/edit?gid=1862841218#gid=1862841218 \nThe Institute for Art and Olfaction
URL:https://artandolfaction.com/events/open-purchasing-hours-3/
LOCATION:The Institute for Art and Olfaction\, 932 Chung King Rd\, Los Angeles\, CA\, 90012\, United States
CATEGORIES:In Person Event
ATTACH;FMTTYPE=image/jpeg:https://artandolfaction.com/wp-content/uploads/2026/03/EB_OpenPurchasingHours.jpg
END:VEVENT
BEGIN:VEVENT
DTSTART;TZID=America/Tijuana:20260505T173000
DTEND;TZID=America/Tijuana:20260505T193000
DTSTAMP:20260423T034110
CREATED:20260421T144357Z
LAST-MODIFIED:20260421T144406Z
UID:10001059-1778002200-1778009400@artandolfaction.com
SUMMARY:Open Session for Returning Students (in person)
DESCRIPTION:Sign up: https://www.eventbrite.com/e/open-sessions-returning-students-only-tickets-1987609284876?aff=oddtdtcreator&keep_tld=true \n– \nAromatic materials are not included. Bring your own materials or purchase small quantities from us. \nOur open sessions for returning students only are designed as an informal\, convivial space in which to co-work with other perfumers. Relaxed and self-directed (don’t worry\, we’re here to help)\, these sessions are a great chance to refine a formula\, work out an idea or just hang out with like-minded colleagues. Let’s learn from each other\, and make new friends. \nRelaxed and self-directed\, these informal sessions are a great chance to refine your blending techniques in the presence of other scent enthusiasts and #friendswithpipettes. Open Sessions are the IAO’s longest running program. These Open Sessions for Returning Students Only are designed precisely for newcomers who have already attended one Open Session for First Timers\, intermediate perfumers who want to explore new materials\, or advanced perfumers who want to co-work with a diverse and creative community. \nAs a returning student\, you will be able to independently tinker with materials of your choice in a casual\, social setting.We have everything you need: aromatic materials (natural\, synthetic\, and some accords)\, beakers and droppers\, scent strips and bottles… All you need to bring is a notebook\, and and open mind. Down the rabbit hole you go! \nThe Institute for Art and Olfaction
URL:https://artandolfaction.com/events/open-session-for-returning-students-in-person-2/
LOCATION:The Institute for Art and Olfaction\, 932 Chung King Rd\, Los Angeles\, CA\, 90012\, United States
CATEGORIES:Education,In Person Event
ATTACH;FMTTYPE=image/jpeg:https://artandolfaction.com/wp-content/uploads/2025/12/EB_HandStripHolo.jpg
END:VEVENT
BEGIN:VEVENT
DTSTART;TZID=America/Tijuana:20260517T140000
DTEND;TZID=America/Tijuana:20260517T160000
DTSTAMP:20260423T034110
CREATED:20260406T143946Z
LAST-MODIFIED:20260406T144638Z
UID:10001053-1779026400-1779033600@artandolfaction.com
SUMMARY:Fragrant and Radiant Symphony: A Multisensory Perfume Immersion (in person)
DESCRIPTION:Sign up: https://www.eventbrite.com/e/fragrant-and-radiant-symphony-a-multisensory-perfume-immersion-in-person-tickets-1986787340418?lid=zj5izzdshlrl \n– \nIn 1937\, Roland Hunt mapped a visionary practice with seven rays of healing vibration\, each one a convergence of perfume\, color\, and musical note…..green resonates with F and orange blossoms. \nUsing scents from the Institute for Art and Olfaction’s perfume organ in combination with colored lenses and musical tones generated by your smartphone\, Dr. Dotson explores and reimagines The Cosmic Colour Fellowship of 1960’s Hollywood.\nJoin us at the Institute for Art and Olfaction for an immersive multisensory talk\, where scent meets color meets sound. \n  \nThe Institute for Art and Olfaction
URL:https://artandolfaction.com/events/fragrant-and-radiant-symphony-a-multisensory-perfume-immersion-in-person/
LOCATION:The Institute for Art and Olfaction\, 932 Chung King Rd\, Los Angeles\, CA\, 90012\, United States
CATEGORIES:Education,In Person Event
ATTACH;FMTTYPE=image/jpeg:https://artandolfaction.com/wp-content/uploads/2026/04/Dotson_Slider4.jpg
END:VEVENT
BEGIN:VEVENT
DTSTART;TZID=America/Tijuana:20260519T173000
DTEND;TZID=America/Tijuana:20260519T200000
DTSTAMP:20260423T034110
CREATED:20260413T165038Z
LAST-MODIFIED:20260421T145045Z
UID:10001057-1779211800-1779220800@artandolfaction.com
SUMMARY:Introduction to Perfume Blending: Structured (in person)
DESCRIPTION:Sign up: https://www.eventbrite.com/e/introduction-to-perfume-blending-structured-in-person-tickets-1986277541596?aff=oddtdtcreator&keep_tld=true \n– \nJoin us for a structured approacg to perfume blending. This class is designed for newcomers and beginners of the craft as an onboarding to working with scent at the Institute for Art and Olfaction. \nIn this class\, Minetta Rogers will introduce you to the foundational terminology and techniques of perfumery as we guide you through the steps of working with aromatic materials in our labspace. The class will begin with a guided smelling session that introduces you to the world of aromatic materials. You’ll smell a selection of materials from our organ that shine light on the difference between naturals\, synthetics\, and bases; top\, middle\, and base notes; and different dilutions and odor intensities. As a group\, you’ll take part in several group blending exercises to demonstrate proper technique in writing perfume formula iterations and blending scent trials.The second portion of the class is dedicated to individual blending time\, with a selection of 5 materials chosen and decanted into blending vials by you. \nMinetta Rogers is here to assist with material selection\, formula tweaking\, and basic perfume arithmetic as you experiment\, explore\, and learn. At the end of class\, you’ll take home 5 aromatic materials\, a final spray vial of your own formulated blend\, and perfume-making knowledge! \nThe Institute for Art and Olfaction
URL:https://artandolfaction.com/events/introduction-to-perfume-blending-structured-3/
LOCATION:The Institute for Art and Olfaction\, 932 Chung King Rd\, Los Angeles\, CA\, 90012\, United States
CATEGORIES:Education,In Person Event
ATTACH;FMTTYPE=image/jpeg:https://artandolfaction.com/wp-content/uploads/2026/02/EB_Lab-DippingBottle.jpg
END:VEVENT
BEGIN:VEVENT
DTSTART;TZID=America/Tijuana:20260524T150000
DTEND;TZID=America/Tijuana:20260524T170000
DTSTAMP:20260423T034110
CREATED:20260413T165215Z
LAST-MODIFIED:20260413T165215Z
UID:10001058-1779634800-1779642000@artandolfaction.com
SUMMARY:Perfume 101: Perfumery for Beginners (in person)
DESCRIPTION:Sign up: https://www.eventbrite.com/e/perfume-101-perfumery-for-beginners-in-person-tickets-1986277266774?aff=oddtdtcreator&keep_tld=true  \n– \nPerfume 101 serves as an orientation session for newcomers to the field\, olfactive adventurers\, curious minds\, and budding scent enthusiasts who need a little boost. \nIn this theory-focused introduction to perfumery\, participants will learn about perfume basics such as fragrance families and classifications\, get an introduction to perfume-making in a lab\, and get an introduction to the different kinds of aromatic materials. As a group\, the class will learn the difference between top\, middle and bottom notes\, what’s in a perfume lab\, get a brief introduction to perfume math concepts\, and more. We’ll smell and look at different aromatic materials\, useful labware used in blending scents\, and more! \nParticipants will leave with the basic knowledge they need to start a journey down the rabbit hole of appreciating and even making scent. \nPlease note: This is primarily a lecture-based class\, with a smelling component. There is one group blend exercise and one individual blend exercise\, with participants taking home a small spray vial of their individual scent blend and select reference materials. If you wish to take a class with a hands-on focus\, please register for Introduction to Perfume Blending. \nThe Institute for Art and Olfaction
URL:https://artandolfaction.com/events/perfume-101-perfumery-for-beginners-in-person-2/
LOCATION:The Institute for Art and Olfaction\, 932 Chung King Rd\, Los Angeles\, CA\, 90012\, United States
CATEGORIES:Education,In Person Event
ATTACH;FMTTYPE=image/jpeg:https://artandolfaction.com/wp-content/uploads/2026/03/EB_Perfume101.jpg
END:VEVENT
END:VCALENDAR